BEGIN:VCALENDAR
VERSION:2.0
PRODID:-//Eventin//Event Calendar//EN
CALSCALE:GREGORIAN
METHOD:PUBLISH
BEGIN:VEVENT
UID:dc5de88c9e617ba25ee0a2096e37e984@amana-movement.com
SUMMARY:Supporting Girls of Determination Through Puberty: A Parent’s Gui
 de
DESCRIPTION:This insightful webinar is designed to support parents and care
 givers in navigating the important stage of puberty for girls of determinat
 ion.\nParticipants will gain practical knowledge\, emotional understanding\
 , and effective strategies to help their children adapt to physical\, emoti
 onal\, and social changes with confidence and care.\nThe session creates a 
 safe and supportive space for families to learn\, ask questions\, and feel 
 empowered throughout this journey.\n🎯 Objectives\nBy the end of this ses
 sion\, participants will be able to:\n\nUnderstand the physical and emotion
 al changes during puberty\nSupport girls of determination with confidence a
 nd sensitivity\nCommunicate effectively about body changes and emotions\nCr
 eate a safe and supportive home environment\nAddress common challenges face
 d during puberty\n\n\n Register via Microsoft Teams
LOCATION:Online
DTSTAMP:20260421T084453Z
DTSTART:20260422T060000Z
DTEND:20260422T073000Z
END:VEVENT
END:VCALENDAR
