BEGIN:VCALENDAR
VERSION:2.0
PRODID:-//Eventin//Event Calendar//EN
CALSCALE:GREGORIAN
METHOD:PUBLISH
BEGIN:VEVENT
UID:ad562a26afd70a27949a9f5b4284b65e@amana-movement.com
SUMMARY:Parenting Through War: A Guided Support Series
DESCRIPTION:In collaboration with Siira\, this initiative creates a safe an
 d supportive space for parents navigating the challenges of war with their 
 children.\nThese sessions are designed to encourage open conversations\, sh
 ared experiences\, and emotional support\, helping parents better understan
 d and respond to their children’s needs during difficult times.\nLed by P
 hD-level child and adolescent psychologists\, each session offers guidance\
 , answers real questions\, and provides practical tools to support both par
 ents and children.\nReal conversations. Real questions. Real support.\nEven
 t Details\nAudience: Parents and caregivers\nSchedule: Every Wednesday duri
 ng April\nTime: 9:00 PM\nFormat: Online Sessions\nPlatform: Via the Siira a
 pp (available for free download)\nPrice: Free
LOCATION:Online
DTSTAMP:20260419T130251Z
DTSTART:20260422T190000Z
DTEND:20260422T200000Z
END:VEVENT
END:VCALENDAR
