BEGIN:VCALENDAR
VERSION:2.0
PRODID:-//Eventin//Event Calendar//EN
CALSCALE:GREGORIAN
METHOD:PUBLISH
BEGIN:VEVENT
UID:c3e16ad75a9fdaec37036c1c5d90bd5e@amana-movement.com
SUMMARY:Early Learning Summit
DESCRIPTION:
LOCATION:Dubai Exhibition Centre
DTSTAMP:20260421T084453Z
DTSTART:20260423T110000Z
DTEND:20260424T140000Z
END:VEVENT
END:VCALENDAR
